BEGIN:VCALENDAR
VERSION:2.0
PRODID:-//hacksw/handcal//NONSGML v1.0//EN
BEGIN:VEVENT
DTSTAMP:20261024T030000Z
DTSTART:20261024T030000Z
DTEND:20261024T070000Z

SUMMARY:Grupo Duelo
DESCRIPTION:Throughout their 26-year career, Grupo Duelo has established itself as one of the leading forces in romantic norteño across Mexico and the United States. Founded and led by singer-songwriter Óscar Iván Treviño, the group has built a legacy defined by heartfelt lyrics, memorable melodies, and a deep emotional connection with their audience, solidifying their place as one of the most influential and enduring acts in regional Mexican music. For over two decades, Duelo has shaped generations with a style that blends the traditional essence of norteño with a contemporary sensibility that evolves without losing its identity. With over 7 million monthly listeners on digital platforms and hundreds of millions of streams accumulated, the group maintains a consistent presence on the charts, backed by numerous awards and certifications for its high sales and streaming figures, including Grammy Awards, Premios Juventud, Billboard Latin Music Awards, BMI Awards, and Bandamax Awards. His catalog includes anthems of northern romanticism such as “Sentimientos de Cartón”, “Puño de Diamantes”, “Te Compro”, “Veneno”, “Le Dije al Corazón”, “Pobre Loco” and “Desde Hoy”, to which today is added his most recent single, “Te Cura el Tiempo”, a song that is already emerging as a favorite on regional Mexican radio and reaffirms the group’s relevance within a constantly evolving genre. With “Gravedad Tour 2026,” Grupo Duelo presents a revamped show that elevates their musical and visual experience to another level. More than a tour, it&#39;s an emotional journey that embodies that invisible force that evokes memories and loves that are never forgotten. At each performance, the band offers an intimate and powerful journey through their greatest hits and most recent releases, incorporating modern production and special acoustic moments. With this new tour, Duelo reaffirms that romantic norteño music not only remains relevant, but continues to evolve and reach new heights. Undoubtedly, many more chapters are yet to be written in the story of a band that has made emotion its signature. Prepare for a beautifully painful night. Prepare to feel the gravity. 
END:VEVENT
END:VCALENDAR